BEGIN:VCALENDAR
VERSION:2.0
PRODID:-//NORTH STARS Baseball - ECPv6.13.2.1//NONSGML v1.0//EN
CALSCALE:GREGORIAN
METHOD:PUBLISH
X-ORIGINAL-URL:https://northstarsbaseball.com
X-WR-CALDESC:Events for NORTH STARS Baseball
REFRESH-INTERVAL;VALUE=DURATION:PT1H
X-Robots-Tag:noindex
X-PUBLISHED-TTL:PT1H
BEGIN:VTIMEZONE
TZID:America/Anchorage
BEGIN:DAYLIGHT
TZOFFSETFROM:-0900
TZOFFSETTO:-0800
TZNAME:AKDT
DTSTART:20210314T110000
END:DAYLIGHT
BEGIN:STANDARD
TZOFFSETFROM:-0800
TZOFFSETTO:-0900
TZNAME:AKST
DTSTART:20211107T100000
END:STANDARD
END:VTIMEZONE
BEGIN:VTIMEZONE
TZID:UTC
BEGIN:STANDARD
TZOFFSETFROM:+0000
TZOFFSETTO:+0000
TZNAME:UTC
DTSTART:20210101T000000
END:STANDARD
END:VTIMEZONE
BEGIN:VEVENT
DTSTART;VALUE=DATE:20210814
DTEND;VALUE=DATE:20210816
DTSTAMP:20260423T130648
CREATED:20210320T204316Z
LAST-MODIFIED:20210804T232216Z
UID:4220-1628899200-1629071999@northstarsbaseball.com
SUMMARY:Fairbanks Sun Tournament
DESCRIPTION:
URL:https://northstarsbaseball.com/event/fairbanks-sun-tournament/
LOCATION:Fairbanks\, Fairbanks\, AK\, 99701\, United States
CATEGORIES:Tournaments
ATTACH;FMTTYPE=image/png:https://northstarsbaseball.com/wp-content/uploads/2021/03/FST_-Logo-Present.png
ORGANIZER;CN="Justin Witt":MAILTO:info@northstarsbaseball.com
END:VEVENT
BEGIN:VEVENT
DTSTART;VALUE=DATE:20210522
DTEND;VALUE=DATE:20210524
DTSTAMP:20260423T130648
CREATED:20210426T112941Z
LAST-MODIFIED:20210426T192054Z
UID:353-1621641600-1621814399@northstarsbaseball.com
SUMMARY:Drillers Tournament
DESCRIPTION:
URL:https://northstarsbaseball.com/event/drillers/
LOCATION:Anchorage\, 2727 O'Malley Rd\, Anchorage\, AK\, 99507\, United States
CATEGORIES:Tournaments
ORGANIZER;CN="Justin Witt":MAILTO:info@northstarsbaseball.com
END:VEVENT
END:VCALENDAR